BEGIN:VCALENDAR
VERSION:2.0
METHOD:PUBLISH
BEGIN:VEVENT
DTSTART:20220711T000000Z
DTEND:20220715T000000Z
LOCATION:
TRANSP: OPAQUE
SEQUENCE:0
UID:927ea47ad6c977230073b2a09ee90060
DTSTAMP:20260422T023003Z
SUMMARY:Pendaftaran MBKM UPNVJ
DESCRIPTION:
PRIORITY:1
CLASS:PUBLIC
BEGIN:VALARM
TRIGGER:-PT10080M
ACTION:DISPLAY
DESCRIPTION:Reminder
END:VALARM
END:VEVENT
END:VCALENDAR
