BEGIN:VCALENDAR
VERSION:2.0
METHOD:PUBLISH
BEGIN:VEVENT
DTSTART:20220724T000000Z
DTEND:20220724T233000Z
LOCATION:
TRANSP: OPAQUE
SEQUENCE:0
UID:95e5daa6b8ccdeb38937fe791f60dfa9
DTSTAMP:20260424T045642Z
SUMMARY:Batas Akhir Penerbitan Keputusan Yudisium
DESCRIPTION:
PRIORITY:1
CLASS:PUBLIC
BEGIN:VALARM
TRIGGER:-PT10080M
ACTION:DISPLAY
DESCRIPTION:Reminder
END:VALARM
END:VEVENT
END:VCALENDAR
