BEGIN:VCALENDAR
VERSION:2.0
METHOD:PUBLISH
BEGIN:VEVENT
DTSTART:20220917T000000Z
DTEND:20220917T233000Z
LOCATION:
TRANSP: OPAQUE
SEQUENCE:0
UID:11ba2461c5c635deaf0b4ba880b9265a
DTSTAMP:20260424T011056Z
SUMMARY:Prosesi Wisuda Semester Genap TA. 2021/2022
DESCRIPTION:
PRIORITY:1
CLASS:PUBLIC
BEGIN:VALARM
TRIGGER:-PT10080M
ACTION:DISPLAY
DESCRIPTION:Reminder
END:VALARM
END:VEVENT
END:VCALENDAR
